Package: scruff Version: 1.24.0 Command: rm -rf scruff.buildbin-libdir && mkdir scruff.buildbin-libdir && F:\biocbuild\bbs-3.20-bioc\R\bin\R.exe CMD INSTALL --build --library=scruff.buildbin-libdir scruff_1.24.0.tar.gz StartedAt: 2025-02-04 09:28:58 -0500 (Tue, 04 Feb 2025) EndedAt: 2025-02-04 09:30:12 -0500 (Tue, 04 Feb 2025) EllapsedTime: 74.0 seconds RetCode: 0 Status: OK PackageFile: scruff_1.24.0.zip PackageFileSize: 2.96 MiB