Package: scry Version: 1.18.0 Command: /Library/Frameworks/R.framework/Resources/bin/R CMD INSTALL scry StartedAt: 2025-02-03 17:51:53 -0500 (Mon, 03 Feb 2025) EndedAt: 2025-02-03 17:52:21 -0500 (Mon, 03 Feb 2025) EllapsedTime: 27.5 seconds RetCode: 0 Status: OK