Package: scry Version: 1.18.0 Command: /Library/Frameworks/R.framework/Resources/bin/R CMD build --keep-empty-dirs --no-resave-data scry StartedAt: 2024-11-19 18:36:20 -0500 (Tue, 19 Nov 2024) EndedAt: 2024-11-19 18:41:36 -0500 (Tue, 19 Nov 2024) EllapsedTime: 315.3 seconds RetCode: 0 Status: OK PackageFile: scry_1.18.0.tar.gz PackageFileSize: 4.522 MiB