Package: scry Version: 1.18.0 Command: /Library/Frameworks/R.framework/Resources/bin/R CMD check --install=check:scry.install-out.txt --library=/Library/Frameworks/R.framework/Resources/library --no-vignettes --timings scry_1.18.0.tar.gz StartedAt: 2024-11-20 02:29:41 -0500 (Wed, 20 Nov 2024) EndedAt: 2024-11-20 02:35:54 -0500 (Wed, 20 Nov 2024) EllapsedTime: 372.8 seconds RetCode: 0 Status: OK CheckDir: scry.Rcheck Warnings: 0