Package: scry Version: 1.18.0 Command: /Library/Frameworks/R.framework/Resources/bin/R CMD INSTALL scry StartedAt: 2025-02-03 16:37:12 -0500 (Mon, 03 Feb 2025) EndedAt: 2025-02-03 16:38:02 -0500 (Mon, 03 Feb 2025) EllapsedTime: 50.0 seconds RetCode: 0 Status: OK