Package: scry Version: 1.18.0 Command: F:\biocbuild\bbs-3.20-bioc\R\bin\R.exe CMD INSTALL scry StartedAt: 2025-02-03 17:05:09 -0500 (Mon, 03 Feb 2025) EndedAt: 2025-02-03 17:05:38 -0500 (Mon, 03 Feb 2025) EllapsedTime: 28.5 seconds RetCode: 0 Status: OK