Package: scuttle Version: 1.16.0 Command: /Library/Frameworks/R.framework/Resources/bin/R CMD check --install=check:scuttle.install-out.txt --library=/Library/Frameworks/R.framework/Resources/library --no-vignettes --timings scuttle_1.16.0.tar.gz StartedAt: 2025-02-05 09:43:54 -0500 (Wed, 05 Feb 2025) EndedAt: 2025-02-05 09:50:35 -0500 (Wed, 05 Feb 2025) EllapsedTime: 401.1 seconds RetCode: 0 Status: OK CheckDir: scuttle.Rcheck Warnings: 0