Package: scuttle Version: 1.16.0 Command: /Library/Frameworks/R.framework/Resources/bin/R CMD build --keep-empty-dirs --no-resave-data scuttle StartedAt: 2025-02-03 22:13:38 -0500 (Mon, 03 Feb 2025) EndedAt: 2025-02-03 22:18:27 -0500 (Mon, 03 Feb 2025) EllapsedTime: 289.0 seconds RetCode: 0 Status: OK PackageFile: scuttle_1.16.0.tar.gz PackageFileSize: 1006 KiB