Package: scuttle Version: 1.16.0 Command: /home/biocbuild/bbs-3.20-bioc/R/bin/R CMD INSTALL scuttle StartedAt: 2025-02-03 15:28:13 -0500 (Mon, 03 Feb 2025) EndedAt: 2025-02-03 15:29:20 -0500 (Mon, 03 Feb 2025) EllapsedTime: 67.1 seconds RetCode: 0 Status: OK