Package: scuttle Version: 1.16.0 Command: rm -rf scuttle.buildbin-libdir && mkdir scuttle.buildbin-libdir && F:\biocbuild\bbs-3.20-bioc\R\bin\R.exe CMD INSTALL --build --library=scuttle.buildbin-libdir scuttle_1.16.0.tar.gz StartedAt: 2025-02-04 09:29:15 -0500 (Tue, 04 Feb 2025) EndedAt: 2025-02-04 09:31:17 -0500 (Tue, 04 Feb 2025) EllapsedTime: 121.6 seconds RetCode: 0 Status: OK PackageFile: scuttle_1.16.0.zip PackageFileSize: 1.586 MiB