Package: segmentSeq Version: 2.40.0 Command: /Library/Frameworks/R.framework/Resources/bin/R CMD INSTALL segmentSeq StartedAt: 2025-02-10 16:18:58 -0500 (Mon, 10 Feb 2025) EndedAt: 2025-02-10 16:19:43 -0500 (Mon, 10 Feb 2025) EllapsedTime: 45.0 seconds RetCode: 0 Status: OK