Package: segmentSeq Version: 2.40.0 Command: /Library/Frameworks/R.framework/Resources/bin/R CMD build --keep-empty-dirs --no-resave-data segmentSeq StartedAt: 2025-02-10 22:17:06 -0500 (Mon, 10 Feb 2025) EndedAt: 2025-02-10 22:57:07 -0500 (Mon, 10 Feb 2025) EllapsedTime: 2400.7 seconds RetCode: None Status: TIMEOUT PackageFile: None PackageFileSize: NA