Package: segmentSeq Version: 2.40.0 Command: /home/biocbuild/bbs-3.20-bioc/R/bin/R CMD build --keep-empty-dirs --no-resave-data --md5 segmentSeq StartedAt: 2025-02-10 19:09:19 -0500 (Mon, 10 Feb 2025) EndedAt: 2025-02-10 19:43:47 -0500 (Mon, 10 Feb 2025) EllapsedTime: 2068.2 seconds RetCode: 0 Status: OK PackageFile: segmentSeq_2.40.0.tar.gz PackageFileSize: 2.798 MiB