Package: segmentSeq Version: 2.40.0 Command: chmod a+r segmentSeq -R && F:\biocbuild\bbs-3.20-bioc\R\bin\R.exe CMD build --keep-empty-dirs --no-resave-data segmentSeq StartedAt: 2025-02-03 22:04:41 -0500 (Mon, 03 Feb 2025) EndedAt: 2025-02-03 22:44:42 -0500 (Mon, 03 Feb 2025) EllapsedTime: 2400.4 seconds RetCode: None Status: TIMEOUT PackageFile: None PackageFileSize: NA