Package: segmentSeq Version: 2.40.0 Command: /home/biocbuild/R/R/bin/R CMD build --keep-empty-dirs --no-resave-data segmentSeq StartedAt: 2025-02-11 02:31:32 -0000 (Tue, 11 Feb 2025) EndedAt: 2025-02-11 03:11:32 -0000 (Tue, 11 Feb 2025) EllapsedTime: 2400.9 seconds RetCode: None Status: TIMEOUT PackageFile: None PackageFileSize: NA