Package: segmenter Version: 1.12.0 Command: rm -rf segmenter.buildbin-libdir && mkdir segmenter.buildbin-libdir && /Users/biocbuild/BBS/utils/build-universal.sh segmenter_1.12.0.tar.gz /Library/Frameworks/R.framework/Resources/bin/R segmenter.buildbin-libdir StartedAt: 2025-02-01 16:51:24 -0500 (Sat, 01 Feb 2025) EndedAt: 2025-02-01 16:52:19 -0500 (Sat, 01 Feb 2025) EllapsedTime: 55.3 seconds RetCode: 0 Status: OK PackageFile: segmenter_1.12.0.tgz PackageFileSize: 4.378 MiB