Package: segmenter Version: 1.12.0 Command: rm -rf segmenter.buildbin-libdir && mkdir segmenter.buildbin-libdir && /Users/biocbuild/BBS/utils/build-universal.sh segmenter_1.12.0.tar.gz /Library/Frameworks/R.framework/Resources/bin/R segmenter.buildbin-libdir StartedAt: 2025-01-31 13:40:35 -0500 (Fri, 31 Jan 2025) EndedAt: 2025-01-31 13:42:11 -0500 (Fri, 31 Jan 2025) EllapsedTime: 95.9 seconds RetCode: 0 Status: OK PackageFile: segmenter_1.12.0.tgz PackageFileSize: 4.376 MiB