Package: segmenter Version: 1.12.0 Command: /Library/Frameworks/R.framework/Resources/bin/R CMD build --keep-empty-dirs --no-resave-data segmenter StartedAt: 2025-02-03 22:15:03 -0500 (Mon, 03 Feb 2025) EndedAt: 2025-02-03 22:30:42 -0500 (Mon, 03 Feb 2025) EllapsedTime: 938.4 seconds RetCode: 0 Status: OK PackageFile: segmenter_1.12.0.tar.gz PackageFileSize: 3.995 MiB