Package: segmenter Version: 1.12.0 Command: /Library/Frameworks/R.framework/Resources/bin/R CMD check --install=check:segmenter.install-out.txt --library=/Library/Frameworks/R.framework/Resources/library --no-vignettes --timings segmenter_1.12.0.tar.gz StartedAt: 2025-01-31 09:55:08 -0500 (Fri, 31 Jan 2025) EndedAt: 2025-01-31 10:10:57 -0500 (Fri, 31 Jan 2025) EllapsedTime: 948.7 seconds RetCode: 0 Status: OK CheckDir: segmenter.Rcheck Warnings: 0