Package: segmenter Version: 1.12.0 Command: /Library/Frameworks/R.framework/Resources/bin/R CMD INSTALL segmenter StartedAt: 2025-02-03 16:21:04 -0500 (Mon, 03 Feb 2025) EndedAt: 2025-02-03 16:22:33 -0500 (Mon, 03 Feb 2025) EllapsedTime: 89.1 seconds RetCode: 0 Status: OK