Package: segmenter Version: 1.12.0 Command: /home/biocbuild/bbs-3.20-bioc/R/bin/R CMD build --keep-empty-dirs --no-resave-data --md5 segmenter StartedAt: 2025-01-30 19:07:05 -0500 (Thu, 30 Jan 2025) EndedAt: 2025-01-30 19:13:57 -0500 (Thu, 30 Jan 2025) EllapsedTime: 412.5 seconds RetCode: 0 Status: OK PackageFile: segmenter_1.12.0.tar.gz PackageFileSize: 3.985 MiB