Package: segmenter Version: 1.12.0 Command: /home/biocbuild/R/R/bin/R CMD build --keep-empty-dirs --no-resave-data segmenter StartedAt: 2025-01-31 02:38:28 -0000 (Fri, 31 Jan 2025) EndedAt: 2025-01-31 02:50:43 -0000 (Fri, 31 Jan 2025) EllapsedTime: 734.8 seconds RetCode: 0 Status: OK PackageFile: segmenter_1.12.0.tar.gz PackageFileSize: 3.909 MiB