Package: selectKSigs Version: 1.18.0 Command: rm -rf selectKSigs.buildbin-libdir && mkdir selectKSigs.buildbin-libdir && /Users/biocbuild/BBS/utils/build-universal.sh selectKSigs_1.18.0.tar.gz /Library/Frameworks/R.framework/Resources/bin/R selectKSigs.buildbin-libdir StartedAt: 2025-01-31 13:40:35 -0500 (Fri, 31 Jan 2025) EndedAt: 2025-01-31 13:41:07 -0500 (Fri, 31 Jan 2025) EllapsedTime: 32.1 seconds RetCode: 0 Status: OK PackageFile: selectKSigs_1.18.0.tgz PackageFileSize: 483.3 KiB