Package: seqArchRplus Version: 1.6.0 Command: /Library/Frameworks/R.framework/Resources/bin/R CMD check --install=check:seqArchRplus.install-out.txt --library=/Library/Frameworks/R.framework/Resources/library --no-vignettes --timings seqArchRplus_1.6.0.tar.gz StartedAt: 2025-02-05 09:54:34 -0500 (Wed, 05 Feb 2025) EndedAt: 2025-02-05 10:00:47 -0500 (Wed, 05 Feb 2025) EllapsedTime: 372.9 seconds RetCode: 0 Status: WARNINGS CheckDir: seqArchRplus.Rcheck Warnings: 1