Package: seqArchRplus Version: 1.6.0 Command: /Library/Frameworks/R.framework/Resources/bin/R CMD INSTALL seqArchRplus StartedAt: 2025-02-03 18:12:59 -0500 (Mon, 03 Feb 2025) EndedAt: 2025-02-03 18:13:25 -0500 (Mon, 03 Feb 2025) EllapsedTime: 26.7 seconds RetCode: 0 Status: OK