Package: seqArchRplus Version: 1.6.0 Command: /Library/Frameworks/R.framework/Resources/bin/R CMD build --keep-empty-dirs --no-resave-data seqArchRplus StartedAt: 2025-02-03 22:16:11 -0500 (Mon, 03 Feb 2025) EndedAt: 2025-02-03 22:21:24 -0500 (Mon, 03 Feb 2025) EllapsedTime: 313.8 seconds RetCode: 0 Status: OK PackageFile: seqArchRplus_1.6.0.tar.gz PackageFileSize: 3.688 MiB