Package: seqArchRplus Version: 1.6.0 Command: /home/biocbuild/bbs-3.20-bioc/R/bin/R CMD build --keep-empty-dirs --no-resave-data --md5 seqArchRplus StartedAt: 2025-02-03 19:17:44 -0500 (Mon, 03 Feb 2025) EndedAt: 2025-02-03 19:20:08 -0500 (Mon, 03 Feb 2025) EllapsedTime: 143.2 seconds RetCode: 0 Status: OK PackageFile: seqArchRplus_1.6.0.tar.gz PackageFileSize: 2.964 MiB