Package: seqArchRplus Version: 1.6.0 Command: rm -rf seqArchRplus.buildbin-libdir && mkdir seqArchRplus.buildbin-libdir && F:\biocbuild\bbs-3.20-bioc\R\bin\R.exe CMD INSTALL --build --library=seqArchRplus.buildbin-libdir seqArchRplus_1.6.0.tar.gz StartedAt: 2025-02-04 09:29:47 -0500 (Tue, 04 Feb 2025) EndedAt: 2025-02-04 09:31:15 -0500 (Tue, 04 Feb 2025) EllapsedTime: 87.7 seconds RetCode: 0 Status: OK PackageFile: seqArchRplus_1.6.0.zip PackageFileSize: 1.868 MiB