Package: seqArchRplus Version: 1.6.0 Command: chmod a+r seqArchRplus -R && F:\biocbuild\bbs-3.20-bioc\R\bin\R.exe CMD build --keep-empty-dirs --no-resave-data seqArchRplus StartedAt: 2025-02-03 22:05:43 -0500 (Mon, 03 Feb 2025) EndedAt: 2025-02-03 22:09:20 -0500 (Mon, 03 Feb 2025) EllapsedTime: 217.5 seconds RetCode: 0 Status: OK PackageFile: seqArchRplus_1.6.0.tar.gz PackageFileSize: 1.763 MiB