Package: seqArchRplus Version: 1.6.0 Command: F:\biocbuild\bbs-3.20-bioc\R\bin\R.exe CMD INSTALL seqArchRplus StartedAt: 2025-02-03 16:55:08 -0500 (Mon, 03 Feb 2025) EndedAt: 2025-02-03 16:55:49 -0500 (Mon, 03 Feb 2025) EllapsedTime: 41.1 seconds RetCode: 0 Status: OK