Package: seqArchRplus Version: 1.6.0 Command: /home/biocbuild/R/R/bin/R CMD build --keep-empty-dirs --no-resave-data seqArchRplus StartedAt: 2025-02-04 02:55:38 -0000 (Tue, 04 Feb 2025) EndedAt: 2025-02-04 02:59:34 -0000 (Tue, 04 Feb 2025) EllapsedTime: 236.4 seconds RetCode: 0 Status: OK PackageFile: seqArchRplus_1.6.0.tar.gz PackageFileSize: 1.643 MiB