Package: seqCAT Version: 1.28.0 Command: /Library/Frameworks/R.framework/Resources/bin/R CMD check --install=check:seqCAT.install-out.txt --library=/Library/Frameworks/R.framework/Resources/library --no-vignettes --timings seqCAT_1.28.0.tar.gz StartedAt: 2025-02-01 09:06:33 -0500 (Sat, 01 Feb 2025) EndedAt: 2025-02-01 09:12:32 -0500 (Sat, 01 Feb 2025) EllapsedTime: 359.1 seconds RetCode: 0 Status: OK CheckDir: seqCAT.Rcheck Warnings: 0