Package: seqCAT Version: 1.28.0 Command: /home/biocbuild/bbs-3.20-bioc/R/bin/R CMD build --keep-empty-dirs --no-resave-data --md5 seqCAT StartedAt: 2025-02-03 19:17:51 -0500 (Mon, 03 Feb 2025) EndedAt: 2025-02-03 19:19:18 -0500 (Mon, 03 Feb 2025) EllapsedTime: 86.1 seconds RetCode: 0 Status: OK PackageFile: seqCAT_1.28.0.tar.gz PackageFileSize: 1.894 MiB