Package: seqCAT Version: 1.28.0 Command: /home/biocbuild/bbs-3.20-bioc/R/bin/R CMD INSTALL seqCAT StartedAt: 2025-01-30 15:56:20 -0500 (Thu, 30 Jan 2025) EndedAt: 2025-01-30 15:57:01 -0500 (Thu, 30 Jan 2025) EllapsedTime: 40.5 seconds RetCode: 0 Status: OK