Package: seqCAT Version: 1.28.0 Command: rm -rf seqCAT.buildbin-libdir && mkdir seqCAT.buildbin-libdir && F:\biocbuild\bbs-3.20-bioc\R\bin\R.exe CMD INSTALL --build --library=seqCAT.buildbin-libdir seqCAT_1.28.0.tar.gz StartedAt: 2025-01-31 09:35:48 -0500 (Fri, 31 Jan 2025) EndedAt: 2025-01-31 09:37:05 -0500 (Fri, 31 Jan 2025) EllapsedTime: 76.5 seconds RetCode: 0 Status: OK PackageFile: seqCAT_1.28.0.zip PackageFileSize: 1.876 MiB