Package: seqCAT Version: 1.28.0 Command: chmod a+r seqCAT -R && F:\biocbuild\bbs-3.20-bioc\R\bin\R.exe CMD build --keep-empty-dirs --no-resave-data seqCAT StartedAt: 2025-01-30 21:49:17 -0500 (Thu, 30 Jan 2025) EndedAt: 2025-01-30 21:51:19 -0500 (Thu, 30 Jan 2025) EllapsedTime: 122.2 seconds RetCode: 0 Status: OK PackageFile: seqCAT_1.28.0.tar.gz PackageFileSize: 1.808 MiB