Package: seqCAT Version: 1.28.0 Command: /home/biocbuild/R/R/bin/R CMD build --keep-empty-dirs --no-resave-data seqCAT StartedAt: 2025-02-04 02:55:43 -0000 (Tue, 04 Feb 2025) EndedAt: 2025-02-04 02:58:17 -0000 (Tue, 04 Feb 2025) EllapsedTime: 154.3 seconds RetCode: 0 Status: OK PackageFile: seqCAT_1.28.0.tar.gz PackageFileSize: 1.87 MiB