Package: seqLogo Version: 1.72.0 Command: rm -rf seqLogo.buildbin-libdir && mkdir seqLogo.buildbin-libdir && /Users/biocbuild/BBS/utils/build-universal.sh seqLogo_1.72.0.tar.gz /Library/Frameworks/R.framework/Resources/bin/R seqLogo.buildbin-libdir StartedAt: 2025-01-31 13:41:39 -0500 (Fri, 31 Jan 2025) EndedAt: 2025-01-31 13:41:47 -0500 (Fri, 31 Jan 2025) EllapsedTime: 8.8 seconds RetCode: 0 Status: OK PackageFile: seqLogo_1.72.0.tgz PackageFileSize: 859.9 KiB