Package: seqLogo Version: 1.72.0 Command: /home/biocbuild/bbs-3.20-bioc/R/bin/R CMD check --install=check:seqLogo.install-out.txt --library=/home/biocbuild/bbs-3.20-bioc/R/site-library --timings seqLogo_1.72.0.tar.gz StartedAt: 2025-02-11 02:16:56 -0500 (Tue, 11 Feb 2025) EndedAt: 2025-02-11 02:17:18 -0500 (Tue, 11 Feb 2025) EllapsedTime: 22.0 seconds RetCode: 0 Status: OK CheckDir: seqLogo.Rcheck Warnings: 0