Package: seqLogo Version: 1.72.0 Command: rm -rf seqLogo.buildbin-libdir && mkdir seqLogo.buildbin-libdir && F:\biocbuild\bbs-3.20-bioc\R\bin\R.exe CMD INSTALL --build --library=seqLogo.buildbin-libdir seqLogo_1.72.0.tar.gz StartedAt: 2025-02-04 09:30:07 -0500 (Tue, 04 Feb 2025) EndedAt: 2025-02-04 09:30:21 -0500 (Tue, 04 Feb 2025) EllapsedTime: 13.4 seconds RetCode: 0 Status: OK PackageFile: seqLogo_1.72.0.zip PackageFileSize: 508.1 KiB