Package: seqLogo Version: 1.72.0 Command: chmod a+r seqLogo -R && F:\biocbuild\bbs-3.20-bioc\R\bin\R.exe CMD build --keep-empty-dirs --no-resave-data seqLogo StartedAt: 2025-02-03 22:06:28 -0500 (Mon, 03 Feb 2025) EndedAt: 2025-02-03 22:06:45 -0500 (Mon, 03 Feb 2025) EllapsedTime: 17.3 seconds RetCode: 0 Status: OK PackageFile: seqLogo_1.72.0.tar.gz PackageFileSize: 825.7 KiB