Package: seqTools Version: 1.40.0 Command: rm -rf seqTools.buildbin-libdir && mkdir seqTools.buildbin-libdir && /Users/biocbuild/BBS/utils/build-universal.sh seqTools_1.40.0.tar.gz /Library/Frameworks/R.framework/Resources/bin/R seqTools.buildbin-libdir StartedAt: 2025-02-05 17:48:22 -0500 (Wed, 05 Feb 2025) EndedAt: 2025-02-05 17:48:31 -0500 (Wed, 05 Feb 2025) EllapsedTime: 8.9 seconds RetCode: 0 Status: OK PackageFile: seqTools_1.40.0.tgz PackageFileSize: 816.3 KiB