Package: seqTools Version: 1.40.0 Command: rm -rf seqTools.buildbin-libdir && mkdir seqTools.buildbin-libdir && /Users/biocbuild/BBS/utils/build-universal.sh seqTools_1.40.0.tar.gz /Library/Frameworks/R.framework/Resources/bin/R seqTools.buildbin-libdir StartedAt: 2025-01-31 13:41:58 -0500 (Fri, 31 Jan 2025) EndedAt: 2025-01-31 13:42:15 -0500 (Fri, 31 Jan 2025) EllapsedTime: 16.6 seconds RetCode: 0 Status: OK PackageFile: seqTools_1.40.0.tgz PackageFileSize: 819.2 KiB