Package: seqTools Version: 1.40.0 Command: /home/biocbuild/bbs-3.20-bioc/R/bin/R CMD build --keep-empty-dirs --no-resave-data --md5 seqTools StartedAt: 2025-02-03 19:18:32 -0500 (Mon, 03 Feb 2025) EndedAt: 2025-02-03 19:18:46 -0500 (Mon, 03 Feb 2025) EllapsedTime: 13.0 seconds RetCode: 0 Status: OK PackageFile: seqTools_1.40.0.tar.gz PackageFileSize: 539.4 KiB