Package: seqTools Version: 1.40.0 Command: /home/biocbuild/R/R/bin/R CMD build --keep-empty-dirs --no-resave-data seqTools StartedAt: 2025-02-11 02:34:21 -0000 (Tue, 11 Feb 2025) EndedAt: 2025-02-11 02:34:35 -0000 (Tue, 11 Feb 2025) EllapsedTime: 14.0 seconds RetCode: 0 Status: OK PackageFile: seqTools_1.40.0.tar.gz PackageFileSize: 520.3 KiB