Package: seqcombo Version: 1.28.0 Command: /Library/Frameworks/R.framework/Resources/bin/R CMD INSTALL seqcombo StartedAt: 2025-02-10 16:23:37 -0500 (Mon, 10 Feb 2025) EndedAt: 2025-02-10 16:23:42 -0500 (Mon, 10 Feb 2025) EllapsedTime: 5.2 seconds RetCode: 0 Status: OK