Package: seqcombo Version: 1.28.0 Command: /Library/Frameworks/R.framework/Resources/bin/R CMD INSTALL seqcombo StartedAt: 2025-02-10 15:44:00 -0500 (Mon, 10 Feb 2025) EndedAt: 2025-02-10 15:44:10 -0500 (Mon, 10 Feb 2025) EllapsedTime: 10.1 seconds RetCode: 0 Status: OK