Package: seqcombo Version: 1.28.0 Command: /home/biocbuild/bbs-3.20-bioc/R/bin/R CMD check --install=check:seqcombo.install-out.txt --library=/home/biocbuild/bbs-3.20-bioc/R/site-library --timings seqcombo_1.28.0.tar.gz StartedAt: 2025-02-11 02:16:50 -0500 (Tue, 11 Feb 2025) EndedAt: 2025-02-11 02:17:27 -0500 (Tue, 11 Feb 2025) EllapsedTime: 37.1 seconds RetCode: 0 Status: OK CheckDir: seqcombo.Rcheck Warnings: 0