Package: seqsetvis Version: 1.26.0 Command: /Library/Frameworks/R.framework/Resources/bin/R CMD build --keep-empty-dirs --no-resave-data seqsetvis StartedAt: 2025-01-31 07:56:17 -0500 (Fri, 31 Jan 2025) EndedAt: 2025-01-31 07:57:51 -0500 (Fri, 31 Jan 2025) EllapsedTime: 94.6 seconds RetCode: 0 Status: OK PackageFile: seqsetvis_1.26.0.tar.gz PackageFileSize: 2.062 MiB