Package: seqsetvis Version: 1.26.0 Command: rm -rf seqsetvis.buildbin-libdir && mkdir seqsetvis.buildbin-libdir && /Users/biocbuild/BBS/utils/build-universal.sh seqsetvis_1.26.0.tar.gz /Library/Frameworks/R.framework/Resources/bin/R seqsetvis.buildbin-libdir StartedAt: 2025-01-31 13:41:46 -0500 (Fri, 31 Jan 2025) EndedAt: 2025-01-31 13:43:11 -0500 (Fri, 31 Jan 2025) EllapsedTime: 84.4 seconds RetCode: 0 Status: OK PackageFile: seqsetvis_1.26.0.tgz PackageFileSize: 2.397 MiB